BEGIN:VCALENDAR
VERSION:2.0
PRODID:-//wp-events-plugin.com//7.2.3.1//EN
TZID:Europe/Berlin
X-WR-TIMEZONE:Europe/Berlin
BEGIN:VEVENT
UID:7@vbc-oestringen.de
DTSTART;TZID=Europe/Berlin:20260426T000000
DTEND;TZID=Europe/Berlin:20260426T000000
DTSTAMP:20260118T154652Z
URL:https://vbc-oestringen.de/events/freizeittunier-40-jahre-vbc/
SUMMARY:Freizeittunier 40 Jahre VBC
DESCRIPTION:
CATEGORIES:Freizeitturniere
LOCATION:Stadthalle\, Östringen\, 
X-APPLE-STRUCTURED-LOCATION;VALUE=URI;X-ADDRESS=Östringen\, ;X-APPLE-RADIU
 S=100;X-TITLE=Stadthalle:geo:0,0
END:VEVENT
BEGIN:VTIMEZONE
TZID:Europe/Berlin
X-LIC-LOCATION:Europe/Berlin
BEGIN:DAYLIGHT
DTSTART:20260329T030000
TZOFFSETFROM:+0100
TZOFFSETTO:+0200
TZNAME:CEST
END:DAYLIGHT
END:VTIMEZONE
END:VCALENDAR